BEGIN:VCALENDAR
VERSION:2.0
PRODID:-//Netspirit Netball - ECPv4.9.12//NONSGML v1.0//EN
CALSCALE:GREGORIAN
METHOD:PUBLISH
X-WR-CALNAME:Netspirit Netball
X-ORIGINAL-URL:https://netspiritnetball.com.au
X-WR-CALDESC:Events for Netspirit Netball
BEGIN:VTIMEZONE
TZID:UTC
BEGIN:STANDARD
TZOFFSETFROM:+0000
TZOFFSETTO:+0000
TZNAME:UTC
DTSTART:20190101T000000
END:STANDARD
END:VTIMEZONE
BEGIN:VEVENT
DTSTART;TZID=UTC:20191210T171500
DTEND;TZID=UTC:20191210T190000
DTSTAMP:20210226T050025
CREATED:20191108T110451Z
LAST-MODIFIED:20191108T110451Z
UID:82656-1575998100-1576004400@netspiritnetball.com.au
SUMMARY:Shooting & Attack
DESCRIPTION:5 Weeks for $140\nAges 11-14 Years\n\nCircle Movement SET 3\nAttacking Leads\nBody Position Front Hold\nMaximum Height on Jumps\nCircle Rotation\nLong Range Shooting SET 3\nGive and Go In Circle\n\n  \n
URL:https://netspiritnetball.com.au/event/shooting-attack/2019-12-10/
LOCATION:Benowa Outdoor Netball Courts\, 166 Benowa Rd\, Ashmore\, Australia
ATTACH;FMTTYPE=image/jpeg:https://netspiritnetball.com.au/wp-content/uploads/2019/11/51097664_1987550878214841_2131719954087542784_n.jpg
END:VEVENT
END:VCALENDAR